BEGIN:VCALENDAR
VERSION:2.0
PRODID:-//Göteborg Karate Akademi - ECPv6.15.20//NONSGML v1.0//EN
CALSCALE:GREGORIAN
METHOD:PUBLISH
X-WR-CALNAME:Göteborg Karate Akademi
X-ORIGINAL-URL:https://karateakademi.se
X-WR-CALDESC:Händelser för Göteborg Karate Akademi
REFRESH-INTERVAL;VALUE=DURATION:PT1H
X-Robots-Tag:noindex
X-PUBLISHED-TTL:PT1H
BEGIN:VTIMEZONE
TZID:Europe/Stockholm
BEGIN:DAYLIGHT
TZOFFSETFROM:+0100
TZOFFSETTO:+0200
TZNAME:CEST
DTSTART:20250330T010000
END:DAYLIGHT
BEGIN:STANDARD
TZOFFSETFROM:+0200
TZOFFSETTO:+0100
TZNAME:CET
DTSTART:20251026T010000
END:STANDARD
BEGIN:DAYLIGHT
TZOFFSETFROM:+0100
TZOFFSETTO:+0200
TZNAME:CEST
DTSTART:20260329T010000
END:DAYLIGHT
BEGIN:STANDARD
TZOFFSETFROM:+0200
TZOFFSETTO:+0100
TZNAME:CET
DTSTART:20261025T010000
END:STANDARD
BEGIN:DAYLIGHT
TZOFFSETFROM:+0100
TZOFFSETTO:+0200
TZNAME:CEST
DTSTART:20270328T010000
END:DAYLIGHT
BEGIN:STANDARD
TZOFFSETFROM:+0200
TZOFFSETTO:+0100
TZNAME:CET
DTSTART:20271031T010000
END:STANDARD
END:VTIMEZONE
BEGIN:VEVENT
DTSTART;VALUE=DATE:20260514
DTEND;VALUE=DATE:20260515
DTSTAMP:20260424T222720
CREATED:20260121T214720Z
LAST-MODIFIED:20260121T214720Z
UID:6581-1778716800-1778803199@karateakademi.se
SUMMARY:Kristi himmelsfärdsdagen\, ingen träning
DESCRIPTION:Kristi himmelsfärdsdagen\, torsdag den 14 maj\, har vi ingen träning.
URL:https://karateakademi.se/event/kristihimmelsfard_vt26/
END:VEVENT
BEGIN:VEVENT
DTSTART;TZID=Europe/Stockholm:20260523T110000
DTEND;TZID=Europe/Stockholm:20260523T160000
DTSTAMP:20260424T222720
CREATED:20260121T205422Z
LAST-MODIFIED:20260301T094035Z
UID:6567-1779534000-1779552000@karateakademi.se
SUMMARY:Graderingar VT2026
DESCRIPTION:Plats  Klubbens lokaler\nDatum  Lördag 23 maj\nTa med sig handskar\, vattenflaska.\nFystester & muntlig teoriprov kommer att göras under graderingen.\nMan ska vara på plats i den lilla hallen ca 30 min innan sin graderings tid för att värma upp och träna själv. \nTider\nkl. 11.00-12.30  Gult till orange\, orange till orangegrönt\nkl. 12.30-12.45  Bältes ceremoni (utdelning av bälte)\nkl. 13.00-15.30  Orangegrönt\, grönt\, grönblått\, blått\, blåbrunt\, brunt\, brunsvart\nKl. 15.30-15.45  Bältes ceremoni (utdelning av bälte) \nKallelse till gradering kommer att skickas till berörda och även publiceras här två veckor innan gradering.\n \nVillkor för gradering finns på hemsidan under menyn > GRADERING. \nVIDEO PÅ KATA > FILMER
URL:https://karateakademi.se/event/graderingar_vt26/
LOCATION:Plats: Göteborg Karate Akademi
END:VEVENT
END:VCALENDAR